Index of /checkResults/release/bioc-LATEST/CytoPipeline/raw-results/palomino3

[ICO]NameLast modifiedSizeDescription

[DIR]Parent Directory  -  
[TXT]buildbin-out.txt15-Jun-2024 03:38 1.1K 
[   ]buildbin-summary.dcf15-Jun-2024 03:38 542  
[TXT]buildsrc-out.txt15-Jun-2024 03:38 923  
[   ]buildsrc-summary.dcf15-Jun-2024 03:38 470  
[TXT]checksrc-out.txt15-Jun-2024 03:38 3.8K 
[   ]checksrc-summary.dcf15-Jun-2024 03:38 465  
[TXT]install-out.txt15-Jun-2024 03:38 1.0K 
[   ]install-summary.dcf15-Jun-2024 03:38 277