Index of /checkResults/release/bioc-LATEST/CytoPipeline/raw-results/nebbiolo1

[ICO]NameLast modifiedSizeDescription

[DIR]Parent Directory  -  
[TXT]buildsrc-out.txt15-Jun-2024 03:37 888  
[   ]buildsrc-summary.dcf15-Jun-2024 03:37 430  
[TXT]checksrc-out.txt15-Jun-2024 03:37 3.7K 
[   ]checksrc-summary.dcf15-Jun-2024 03:37 432  
[TXT]install-out.txt15-Jun-2024 03:37 1.0K 
[   ]install-summary.dcf15-Jun-2024 03:37 268