Back to Multiple platform build/check report for BioC 3.14
AB[C]DEFGHIJKLMNOPQRSTUVWXYZ

This page was generated on 2021-10-26 14:08:32 -0400 (Tue, 26 Oct 2021).

INSTALL results for CytoML on machv2

To the developers/maintainers of the CytoML package:
- Please allow up to 24 hours (and sometimes 48 hours) for your latest push to git@git.bioconductor.org:packages/CytoML.git to
reflect on this report. See How and When does the builder pull? When will my changes propagate? here for more information.
- Make sure to use the following settings in order to reproduce any error or warning you see on this page.

raw results

Package 443/2083HostnameOS / ArchINSTALLBUILDCHECKBUILD BIN
CytoML 2.5.4  (landing page)
Mike Jiang
Snapshot Date: 2021-10-25 14:50:11 -0400 (Mon, 25 Oct 2021)
git_url: https://git.bioconductor.org/packages/CytoML
git_branch: master
git_last_commit: 25aee0d
git_last_commit_date: 2021-08-02 13:10:43 -0400 (Mon, 02 Aug 2021)
nebbiolo2Linux (Ubuntu 20.04.2 LTS) / x86_64  OK    OK    WARNINGS  UNNEEDED, same version is already published
riesling1Windows Server 2019 Standard / x64  OK    OK    WARNINGS    OK  UNNEEDED, same version is already published
merida1macOS 10.14.6 Mojave / x86_64  OK    OK    WARNINGS    OK  UNNEEDED, same version is already published
machv2macOS 10.14.6 Mojave / x86_64  OK    OK    WARNINGS    OK  

Summary

Package: CytoML
Version: 2.5.4
Command: /Library/Frameworks/R.framework/Resources/bin/R CMD INSTALL CytoML
StartedAt: 2021-10-25 18:23:53 -0400 (Mon, 25 Oct 2021)
EndedAt: 2021-10-25 18:25:32 -0400 (Mon, 25 Oct 2021)
EllapsedTime: 99.4 seconds
RetCode: 0
Status:   OK  

Command output

##############################################################################
##############################################################################
###
### Running command:
###
###   /Library/Frameworks/R.framework/Resources/bin/R CMD INSTALL CytoML
###
##############################################################################
##############################################################################


* installing to library ‘/Library/Frameworks/R.framework/Versions/4.1/Resources/library’
* installing *source* package ‘CytoML’ ...
** using staged installation
checking whether the C++ compiler works... yes
checking for C++ compiler default output file name... a.out
checking for suffix of executables... 
checking whether we are cross compiling... no
checking for suffix of object files... o
checking whether we are using the GNU C++ compiler... yes
checking whether clang++ -mmacosx-version-min=10.13 -std=gnu++11 accepts -g... yes
checking for gcc... clang -mmacosx-version-min=10.13
checking whether we are using the GNU C compiler... yes
checking whether clang -mmacosx-version-min=10.13 accepts -g... yes
checking for clang -mmacosx-version-min=10.13 option to accept ISO C89... none needed
configure: setting xml2 flags...
configure: No directory was specified for --with-xml2. Trying to find xml2 using other methods.
checking for xml2-config... /usr/local/opt/libxml2/bin/xml2-config
configure: setting cytolib-ml commandline tool path...
configure: Using the following compilation and linking flags
configure:    PKG_CPPFLAGS=-I/usr/local/Cellar/libxml2/2.9.10_2/include/libxml2 -ftemplate-depth=900
configure:    PKG_LIBS=-L/usr/local/Cellar/libxml2/2.9.10_2/lib -lxml2 -lz -lpthread -liconv -lm 
configure:    CYTOLIBML_BIN=/usr/local/bin
configure: creating ./config.status
config.status: creating src/Makevars
config.status: creating R/cytolibml_bin_path.R
** libs
clang++ -mmacosx-version-min=10.13 -std=gnu++11 -I"/Library/Frameworks/R.framework/Resources/include" -DNDEBUG -DROUT -I../inst/include/ -I/usr/local/Cellar/libxml2/2.9.10_2/include/libxml2 -ftemplate-depth=900 -DBOOST_NO_AUTO_PTR  -I'/Library/Frameworks/R.framework/Versions/4.1/Resources/library/Rcpp/include' -I'/Library/Frameworks/R.framework/Versions/4.1/Resources/library/BH/include' -I'/Library/Frameworks/R.framework/Versions/4.1/Resources/library/RProtoBufLib/include' -I'/Library/Frameworks/R.framework/Versions/4.1/Resources/library/cytolib/include' -I'/Library/Frameworks/R.framework/Versions/4.1/Resources/library/Rhdf5lib/include' -I'/Library/Frameworks/R.framework/Versions/4.1/Resources/library/RcppArmadillo/include' -I'/Library/Frameworks/R.framework/Versions/4.1/Resources/library/RcppParallel/include' -I'/Library/Frameworks/R.framework/Versions/4.1/Resources/library/flowWorkspace/include' -I/usr/local/include   -fPIC  -Wall -g -O2  -c RcppExports.cpp -o RcppExports.o
In file included from RcppExports.cpp:4:
In file included from ./../inst/include/CytoML.h:4:
In file included from /Library/Frameworks/R.framework/Versions/4.1/Resources/library/flowWorkspace/include/flowWorkspace.h:5:
In file included from /Library/Frameworks/R.framework/Versions/4.1/Resources/library/cytolib/include/cytolib/GatingSet.hpp:14:
In file included from /Library/Frameworks/R.framework/Versions/4.1/Resources/library/cytolib/include/cytolib/GatingHierarchy.hpp:17:
In file included from /Library/Frameworks/R.framework/Versions/4.1/Resources/library/cytolib/include/cytolib/populationTree.hpp:14:
In file included from /Library/Frameworks/R.framework/Versions/4.1/Resources/library/BH/include/boost/graph/adjacency_list.hpp:255:
In file included from /Library/Frameworks/R.framework/Versions/4.1/Resources/library/BH/include/boost/graph/detail/adjacency_list.hpp:37:
In file included from /Library/Frameworks/R.framework/Versions/4.1/Resources/library/BH/include/boost/graph/adjacency_iterator.hpp:13:
/Library/Frameworks/R.framework/Versions/4.1/Resources/library/BH/include/boost/detail/iterator.hpp:13:1: warning: This header is deprecated. Use <iterator> instead. [-W#pragma-messages]
BOOST_HEADER_DEPRECATED("<iterator>")
^
/Library/Frameworks/R.framework/Versions/4.1/Resources/library/BH/include/boost/config/header_deprecated.hpp:23:37: note: expanded from macro 'BOOST_HEADER_DEPRECATED'
# define BOOST_HEADER_DEPRECATED(a) BOOST_PRAGMA_MESSAGE("This header is deprecated. Use " a " instead.")
                                    ^
/Library/Frameworks/R.framework/Versions/4.1/Resources/library/BH/include/boost/config/pragma_message.hpp:24:34: note: expanded from macro 'BOOST_PRAGMA_MESSAGE'
# define BOOST_PRAGMA_MESSAGE(x) _Pragma(BOOST_STRINGIZE(message(x)))
                                 ^
<scratch space>:108:2: note: expanded from here
 message("This header is deprecated. Use " "<iterator>" " instead.")
 ^
In file included from RcppExports.cpp:4:
In file included from ./../inst/include/CytoML.h:5:
In file included from ../inst/include/CytoML/openWorkspace.hpp:12:
../inst/include/CytoML/winFlowJoWorkspace.hpp:435:30: warning: '/*' within block comment [-Wcomment]
           * "*[local-name()='edge']/*[local-name()='vertex']" is for ellipsoidGate
                                    ^
2 warnings generated.
clang++ -mmacosx-version-min=10.13 -std=gnu++11 -I"/Library/Frameworks/R.framework/Resources/include" -DNDEBUG -DROUT -I../inst/include/ -I/usr/local/Cellar/libxml2/2.9.10_2/include/libxml2 -ftemplate-depth=900 -DBOOST_NO_AUTO_PTR  -I'/Library/Frameworks/R.framework/Versions/4.1/Resources/library/Rcpp/include' -I'/Library/Frameworks/R.framework/Versions/4.1/Resources/library/BH/include' -I'/Library/Frameworks/R.framework/Versions/4.1/Resources/library/RProtoBufLib/include' -I'/Library/Frameworks/R.framework/Versions/4.1/Resources/library/cytolib/include' -I'/Library/Frameworks/R.framework/Versions/4.1/Resources/library/Rhdf5lib/include' -I'/Library/Frameworks/R.framework/Versions/4.1/Resources/library/RcppArmadillo/include' -I'/Library/Frameworks/R.framework/Versions/4.1/Resources/library/RcppParallel/include' -I'/Library/Frameworks/R.framework/Versions/4.1/Resources/library/flowWorkspace/include' -I/usr/local/include   -fPIC  -Wall -g -O2  -c parseFlowJoWorkspace.cpp -o parseFlowJoWorkspace.o
In file included from parseFlowJoWorkspace.cpp:9:
In file included from ../inst/include/CytoML/openWorkspace.hpp:11:
In file included from ../inst/include/CytoML/macFlowJoWorkspace.hpp:10:
In file included from ../inst/include/CytoML/flowJoWorkspace.hpp:11:
In file included from ../inst/include/CytoML/workspace.hpp:14:
In file included from /Library/Frameworks/R.framework/Versions/4.1/Resources/library/cytolib/include/cytolib/GatingSet.hpp:14:
In file included from /Library/Frameworks/R.framework/Versions/4.1/Resources/library/cytolib/include/cytolib/GatingHierarchy.hpp:17:
In file included from /Library/Frameworks/R.framework/Versions/4.1/Resources/library/cytolib/include/cytolib/populationTree.hpp:14:
In file included from /Library/Frameworks/R.framework/Versions/4.1/Resources/library/BH/include/boost/graph/adjacency_list.hpp:255:
In file included from /Library/Frameworks/R.framework/Versions/4.1/Resources/library/BH/include/boost/graph/detail/adjacency_list.hpp:37:
In file included from /Library/Frameworks/R.framework/Versions/4.1/Resources/library/BH/include/boost/graph/adjacency_iterator.hpp:13:
/Library/Frameworks/R.framework/Versions/4.1/Resources/library/BH/include/boost/detail/iterator.hpp:13:1: warning: This header is deprecated. Use <iterator> instead. [-W#pragma-messages]
BOOST_HEADER_DEPRECATED("<iterator>")
^
/Library/Frameworks/R.framework/Versions/4.1/Resources/library/BH/include/boost/config/header_deprecated.hpp:23:37: note: expanded from macro 'BOOST_HEADER_DEPRECATED'
# define BOOST_HEADER_DEPRECATED(a) BOOST_PRAGMA_MESSAGE("This header is deprecated. Use " a " instead.")
                                    ^
/Library/Frameworks/R.framework/Versions/4.1/Resources/library/BH/include/boost/config/pragma_message.hpp:24:34: note: expanded from macro 'BOOST_PRAGMA_MESSAGE'
# define BOOST_PRAGMA_MESSAGE(x) _Pragma(BOOST_STRINGIZE(message(x)))
                                 ^
<scratch space>:12:2: note: expanded from here
 message("This header is deprecated. Use " "<iterator>" " instead.")
 ^
In file included from parseFlowJoWorkspace.cpp:9:
In file included from ../inst/include/CytoML/openWorkspace.hpp:12:
../inst/include/CytoML/winFlowJoWorkspace.hpp:435:30: warning: '/*' within block comment [-Wcomment]
           * "*[local-name()='edge']/*[local-name()='vertex']" is for ellipsoidGate
                                    ^
2 warnings generated.
clang++ -mmacosx-version-min=10.13 -std=gnu++11 -dynamiclib -Wl,-headerpad_max_install_names -undefined dynamic_lookup -single_module -multiply_defined suppress -L/Library/Frameworks/R.framework/Resources/lib -L/usr/local/lib -o CytoML.so RcppExports.o parseFlowJoWorkspace.o /Library/Frameworks/R.framework/Versions/4.1/Resources/library/cytolib/lib/libcytolib.a /Library/Frameworks/R.framework/Versions/4.1/Resources/library/Rhdf5lib/lib/libhdf5_cpp.a /Library/Frameworks/R.framework/Versions/4.1/Resources/library/Rhdf5lib/lib/libhdf5.a /Library/Frameworks/R.framework/Versions/4.1/Resources/library/Rhdf5lib/lib/libsz.a -lz -L/Library/Frameworks/R.framework/Resources/lib -lRlapack -L/Library/Frameworks/R.framework/Resources/lib -lRblas -L/usr/local/Cellar/libxml2/2.9.10_2/lib -lxml2 -lz -lpthread -liconv -lm -F/Library/Frameworks/R.framework/.. -framework R -Wl,-framework -Wl,CoreFoundation
installing to /Library/Frameworks/R.framework/Versions/4.1/Resources/library/00LOCK-CytoML/00new/CytoML/libs
** R
** inst
** byte-compile and prepare package for lazy loading
** help
*** installing help indices
** building package indices
** installing vignettes
** testing if installed package can be loaded from temporary location
** checking absolute paths in shared objects and dynamic libraries
** testing if installed package can be loaded from final location
** testing if installed package keeps a record of temporary installation path
* DONE (CytoML)