Index of /checkResults/release/bioc-LATEST/CyTOFpower/raw-results
Name
Last modified
Size
Description
Parent Directory
-
info.dcf
02-Jul-2022 01:07
293
merida1/
02-Jul-2022 01:07
-
nebbiolo1/
02-Jul-2022 01:05
-
palomino3/
02-Jul-2022 01:06
-
riesling1/
19-Mar-2022 00:07
-