Index of /checkResults/release/bioc-LATEST/CrispRVariants/raw-results/nebbiolo2

[ICO]NameLast modifiedSizeDescription

[DIR]Parent Directory  -  
[TXT]buildsrc-out.txt03-Mar-2024 01:35 1.1K 
[   ]buildsrc-summary.dcf03-Mar-2024 01:35 438  
[TXT]checksrc-out.txt03-Mar-2024 01:35 4.3K 
[   ]checksrc-summary.dcf03-Mar-2024 01:35 448  
[TXT]install-out.txt03-Mar-2024 01:35 1.0K 
[   ]install-summary.dcf03-Mar-2024 01:35 273