Index of /checkResults/release/bioc-LATEST/CopywriteR/raw-results/riesling1

[ICO]NameLast modifiedSizeDescription

[DIR]Parent Directory  -  
[TXT]buildbin-out.txt19-Mar-2022 00:07 1.3K 
[   ]buildbin-summary.dcf19-Mar-2022 00:07 533  
[TXT]buildsrc-out.txt19-Mar-2022 00:07 854  
[   ]buildsrc-summary.dcf19-Mar-2022 00:07 464  
[TXT]checksrc-out.txt19-Mar-2022 00:07 5.9K 
[   ]checksrc-summary.dcf19-Mar-2022 00:07 459  
[TXT]install-out.txt19-Mar-2022 00:07 1.2K 
[   ]install-summary.dcf19-Mar-2022 00:07 274