Index of /checkResults/release/bioc-LATEST/CopywriteR/raw-results/merida1

[ICO]NameLast modifiedSizeDescription

[DIR]Parent Directory  -  
[TXT]buildbin-out.txt02-Jul-2022 01:07 1.2K 
[   ]buildbin-summary.dcf02-Jul-2022 01:07 548  
[TXT]buildsrc-out.txt02-Jul-2022 01:07 828  
[   ]buildsrc-summary.dcf02-Jul-2022 01:07 437  
[TXT]checksrc-out.txt02-Jul-2022 01:07 6.0K 
[   ]checksrc-summary.dcf02-Jul-2022 01:07 456  
[TXT]install-out.txt02-Jul-2022 01:07 1.0K 
[   ]install-summary.dcf02-Jul-2022 01:07 275