Back to Multiple platform build/check report for BioC 3.15
AB[C]DEFGHIJKLMNOPQRSTUVWXYZ

This page was generated on 2022-08-15 13:21:15 -0400 (Mon, 15 Aug 2022).

HostnameOSArch (*)R versionInstalled pkgs
nebbiolo1Linux (Ubuntu 20.04.4 LTS)x86_644.2.1 (2022-06-23) -- "Funny-Looking Kid" 4365
palomino3Windows Server 2022 Datacenterx644.2.1 (2022-06-23 ucrt) -- "Funny-Looking Kid" 4118
merida1macOS 10.14.6 Mojavex86_644.2.1 (2022-06-23) -- "Funny-Looking Kid" 4183
Click on any hostname to see more info about the system (e.g. compilers)      (*) as reported by 'uname -p', except on Windows and Mac OS X

CHECK results for CopyNumberPlots on palomino3


To the developers/maintainers of the CopyNumberPlots package:
- Please allow up to 24 hours (and sometimes 48 hours) for your latest push to git@git.bioconductor.org:packages/CopyNumberPlots.git to
reflect on this report. See How and When does the builder pull? When will my changes propagate? for more information.
- Make sure to use the following settings in order to reproduce any error or warning you see on this page.

raw results

Package 409/2140HostnameOS / ArchINSTALLBUILDCHECKBUILD BIN
CopyNumberPlots 1.12.0  (landing page)
Bernat Gel
Snapshot Date: 2022-08-14 13:55:13 -0400 (Sun, 14 Aug 2022)
git_url: https://git.bioconductor.org/packages/CopyNumberPlots
git_branch: RELEASE_3_15
git_last_commit: b6a4fde
git_last_commit_date: 2022-04-26 11:55:13 -0400 (Tue, 26 Apr 2022)
nebbiolo1Linux (Ubuntu 20.04.4 LTS) / x86_64  OK    OK    OK  UNNEEDED, same version is already published
palomino3Windows Server 2022 Datacenter / x64  OK    OK    OK    OK  UNNEEDED, same version is already published
merida1macOS 10.14.6 Mojave / x86_64  OK    OK    OK    OK  UNNEEDED, same version is already published

Summary

Package: CopyNumberPlots
Version: 1.12.0
Command: F:\biocbuild\bbs-3.15-bioc\R\bin\R.exe CMD check --no-multiarch --install=check:CopyNumberPlots.install-out.txt --library=F:\biocbuild\bbs-3.15-bioc\R\library --no-vignettes --timings CopyNumberPlots_1.12.0.tar.gz
StartedAt: 2022-08-14 23:55:50 -0400 (Sun, 14 Aug 2022)
EndedAt: 2022-08-15 00:01:33 -0400 (Mon, 15 Aug 2022)
EllapsedTime: 343.1 seconds
RetCode: 0
Status:   OK  
CheckDir: CopyNumberPlots.Rcheck
Warnings: 0

Command output

##############################################################################
##############################################################################
###
### Running command:
###
###   F:\biocbuild\bbs-3.15-bioc\R\bin\R.exe CMD check --no-multiarch --install=check:CopyNumberPlots.install-out.txt --library=F:\biocbuild\bbs-3.15-bioc\R\library --no-vignettes --timings CopyNumberPlots_1.12.0.tar.gz
###
##############################################################################
##############################################################################


* using log directory 'F:/biocbuild/bbs-3.15-bioc/meat/CopyNumberPlots.Rcheck'
* using R version 4.2.1 (2022-06-23 ucrt)
* using platform: x86_64-w64-mingw32 (64-bit)
* using session charset: UTF-8
* using option '--no-vignettes'
* checking for file 'CopyNumberPlots/DESCRIPTION' ... OK
* checking extension type ... Package
* this is package 'CopyNumberPlots' version '1.12.0'
* package encoding: UTF-8
* checking package namespace information ... OK
* checking package dependencies ... OK
* checking if this is a source package ... OK
* checking if there is a namespace ... OK
* checking for hidden files and directories ... OK
* checking for portable file names ... OK
* checking whether package 'CopyNumberPlots' can be installed ... OK
* checking installed package size ... OK
* checking package directory ... OK
* checking 'build' directory ... OK
* checking DESCRIPTION meta-information ... OK
* checking top-level files ... OK
* checking for left-over files ... OK
* checking index information ... OK
* checking package subdirectories ... OK
* checking R files for non-ASCII characters ... OK
* checking R files for syntax errors ... OK
* checking whether the package can be loaded ... OK
* checking whether the package can be loaded with stated dependencies ... OK
* checking whether the package can be unloaded cleanly ... OK
* checking whether the namespace can be loaded with stated dependencies ... OK
* checking whether the namespace can be unloaded cleanly ... OK
* checking dependencies in R code ... OK
* checking S3 generic/method consistency ... OK
* checking replacement functions ... OK
* checking foreign function calls ... OK
* checking R code for possible problems ... OK
* checking Rd files ... OK
* checking Rd metadata ... OK
* checking Rd cross-references ... OK
* checking for missing documentation entries ... OK
* checking for code/documentation mismatches ... OK
* checking Rd \usage sections ... OK
* checking Rd contents ... OK
* checking for unstated dependencies in examples ... OK
* checking files in 'vignettes' ... OK
* checking examples ... OK
* checking for unstated dependencies in 'tests' ... OK
* checking tests ...
  Running 'testthat.R'
 OK
* checking for unstated dependencies in vignettes ... OK
* checking package vignettes in 'inst/doc' ... OK
* checking running R code from vignettes ... SKIPPED
* checking re-building of vignette outputs ... SKIPPED
* checking PDF version of manual ... OK
* DONE

Status: OK


Installation output

CopyNumberPlots.Rcheck/00install.out

##############################################################################
##############################################################################
###
### Running command:
###
###   F:\biocbuild\bbs-3.15-bioc\R\bin\R.exe CMD INSTALL CopyNumberPlots
###
##############################################################################
##############################################################################


* installing to library 'F:/biocbuild/bbs-3.15-bioc/R/library'
* installing *source* package 'CopyNumberPlots' ...
** using staged installation
** R
** inst
** byte-compile and prepare package for lazy loading
** help
*** installing help indices
** building package indices
** installing vignettes
** testing if installed package can be loaded from temporary location
** testing if installed package can be loaded from final location
** testing if installed package keeps a record of temporary installation path
* DONE (CopyNumberPlots)

Tests output

CopyNumberPlots.Rcheck/tests/testthat.Rout


R version 4.2.1 (2022-06-23 ucrt) -- "Funny-Looking Kid"
Copyright (C) 2022 The R Foundation for Statistical Computing
Platform: x86_64-w64-mingw32/x64 (64-bit)

R is free software and comes with ABSOLUTELY NO WARRANTY.
You are welcome to redistribute it under certain conditions.
Type 'license()' or 'licence()' for distribution details.

R is a collaborative project with many contributors.
Type 'contributors()' for more information and
'citation()' on how to cite R or R packages in publications.

Type 'demo()' for some demos, 'help()' for on-line help, or
'help.start()' for an HTML browser interface to help.
Type 'q()' to quit R.

> library(testthat)
> library(CopyNumberPlots)
Loading required package: karyoploteR
Loading required package: regioneR
Loading required package: GenomicRanges
Loading required package: stats4
Loading required package: BiocGenerics

Attaching package: 'BiocGenerics'

The following objects are masked from 'package:stats':

    IQR, mad, sd, var, xtabs

The following objects are masked from 'package:base':

    Filter, Find, Map, Position, Reduce, anyDuplicated, append,
    as.data.frame, basename, cbind, colnames, dirname, do.call,
    duplicated, eval, evalq, get, grep, grepl, intersect, is.unsorted,
    lapply, mapply, match, mget, order, paste, pmax, pmax.int, pmin,
    pmin.int, rank, rbind, rownames, sapply, setdiff, sort, table,
    tapply, union, unique, unsplit, which.max, which.min

Loading required package: S4Vectors

Attaching package: 'S4Vectors'

The following objects are masked from 'package:base':

    I, expand.grid, unname

Loading required package: IRanges

Attaching package: 'IRanges'

The following object is masked from 'package:grDevices':

    windows

Loading required package: GenomeInfoDb
> 
> test_check("CopyNumberPlots")
[ FAIL 0 | WARN 0 | SKIP 0 | PASS 26 ]
> 
> proc.time()
   user  system elapsed 
  15.92    0.87   16.82 

Example timings

CopyNumberPlots.Rcheck/CopyNumberPlots-Ex.timings

nameusersystemelapsed
EnsemblStyle0.690.040.83
UCSCStyle0.440.020.46
Ztree2Hclust000
colByCopyNumber0.520.040.56
computeHclustPlotOrder0.030.000.04
getBAFColumn000
getChrColumn0.010.000.01
getColumn000
getCopyNumberColors000
getCopyNumberColumn000
getEndColumn0.000.020.02
getIDColumn000
getLOHColumn000
getLRRColumn000
getPosColumn000
getSegmentValueColumn000
getStartColumn000
loadCopyNumberCalls0.030.000.03
loadCopyNumberCallsCNVkit0.090.000.10
loadCopyNumberCallsCnmops0.240.020.25
loadCopyNumberCallsDECoN0.060.040.11
loadCopyNumberCallsDNAcopy0.740.000.76
loadCopyNumberCallsPanelcnmops0.260.050.41
loadCopyNumberCallsSeg0.030.000.04
loadCopyNumberCallspennCNV0.050.000.04
loadSNPData0.060.000.06
loadSNPDataDNAcopy0.750.000.75
loadSNPDataFromVCF000
plotBAF1.360.051.41
plotCopyNumberCalls0.180.030.22
plotCopyNumberCallsAsLines0.220.010.23
plotCopyNumberSummary0.280.030.31
plotLRR0.440.000.44
plotSingleCellCopyNumberCalls0.060.000.06
plotSingleCellCopyNumberSummary0.040.000.03
prepareLabels0.070.000.08
readHDF5Ztree000
removeNAs0.140.000.14
transformChr000