Index of /checkResults/release/bioc-LATEST/CompoundDb/raw-results/merida1

[ICO]NameLast modifiedSizeDescription

[DIR]Parent Directory  -  
[TXT]buildbin-out.txt20-Jul-2024 06:39 1.3K 
[   ]buildbin-summary.dcf20-Jul-2024 06:39 545  
[TXT]buildsrc-out.txt20-Jul-2024 06:39 827  
[   ]buildsrc-summary.dcf20-Jul-2024 06:39 434  
[TXT]checksrc-out.txt20-Jul-2024 06:39 3.1K 
[   ]checksrc-summary.dcf20-Jul-2024 06:39 454  
[TXT]install-out.txt20-Jul-2024 06:39 1.1K 
[   ]install-summary.dcf20-Jul-2024 06:39 274