Name | Last modified | Size | Description | |
---|---|---|---|---|
Parent Directory | - | |||
install-out.txt | 03-May-2024 00:40 | 1.1K | ||
install-summary.dcf | 03-May-2024 00:40 | 293 | ||
buildsrc-out.txt | 03-May-2024 00:40 | 864 | ||
buildsrc-summary.dcf | 03-May-2024 00:40 | 463 | ||
checksrc-out.txt | 03-May-2024 00:40 | 3.5K | ||
checksrc-summary.dcf | 03-May-2024 00:40 | 491 | ||
buildbin-out.txt | 03-May-2024 00:40 | 1.3K | ||
buildbin-summary.dcf | 03-May-2024 00:40 | 601 | ||