Back to Multiple platform build/check report for BioC 3.15
AB[C]DEFGHIJKLMNOPQRSTUVWXYZ

This page was generated on 2022-08-10 15:39:05 -0400 (Wed, 10 Aug 2022).

HostnameOSArch (*)R versionInstalled pkgs
nebbiolo1Linux (Ubuntu 20.04.4 LTS)x86_644.2.1 (2022-06-23) -- "Funny-Looking Kid" 4363
merida1macOS 10.14.6 Mojavex86_644.2.1 (2022-06-23) -- "Funny-Looking Kid" 4181
Click on any hostname to see more info about the system (e.g. compilers)      (*) as reported by 'uname -p', except on Windows and Mac OS X

All results for package ClusterSignificance


To the developers/maintainers of the ClusterSignificance package:
- Please allow up to 24 hours (and sometimes 48 hours) for your latest push to git@git.bioconductor.org:packages/ClusterSignificance.git to
reflect on this report. See How and When does the builder pull? When will my changes propagate? for more information.
- Make sure to use the following settings in order to reproduce any error or warning you see on this page.

raw results

Package 350/2140HostnameOS / ArchINSTALLBUILDCHECKBUILD BIN
ClusterSignificance 1.24.0  (landing page)
Jason T Serviss
Snapshot Date: 2022-08-09 13:55:12 -0400 (Tue, 09 Aug 2022)
git_url: https://git.bioconductor.org/packages/ClusterSignificance
git_branch: RELEASE_3_15
git_last_commit: 2683a3f
git_last_commit_date: 2022-04-26 11:31:54 -0400 (Tue, 26 Apr 2022)
nebbiolo1Linux (Ubuntu 20.04.4 LTS) / x86_64  OK    OK    OK  UNNEEDED, same version is already published
merida1macOS 10.14.6 Mojave / x86_64  OK    OK    OK    OK  UNNEEDED, same version is already published