Index of /checkResults/release/bioc-LATEST/ClusterJudge/raw-results/nebbiolo1

[ICO]NameLast modifiedSizeDescription

[DIR]Parent Directory  -  
[TXT]buildsrc-out.txt24-Sep-2023 00:34 858  
[   ]buildsrc-summary.dcf24-Sep-2023 00:34 432  
[TXT]checksrc-out.txt24-Sep-2023 00:34 3.8K 
[   ]checksrc-summary.dcf24-Sep-2023 00:34 434  
[TXT]install-out.txt24-Sep-2023 00:34 1.0K 
[   ]install-summary.dcf24-Sep-2023 00:34 268