Back to Multiple platform build/check report for BioC 3.14
AB[C]DEFGHIJKLMNOPQRSTUVWXYZ

This page was generated on 2021-10-26 14:08:30 -0400 (Tue, 26 Oct 2021).

BUILD BIN results for CluMSID on machv2

To the developers/maintainers of the CluMSID package:
- Please allow up to 24 hours (and sometimes 48 hours) for your latest push to git@git.bioconductor.org:packages/CluMSID.git to
reflect on this report. See How and When does the builder pull? When will my changes propagate? here for more information.
- Make sure to use the following settings in order to reproduce any error or warning you see on this page.

raw results

Package 336/2083HostnameOS / ArchINSTALLBUILDCHECKBUILD BIN
CluMSID 1.9.0  (landing page)
Tobias Depke
Snapshot Date: 2021-10-25 14:50:11 -0400 (Mon, 25 Oct 2021)
git_url: https://git.bioconductor.org/packages/CluMSID
git_branch: master
git_last_commit: 274ee44
git_last_commit_date: 2021-05-19 12:40:12 -0400 (Wed, 19 May 2021)
nebbiolo2Linux (Ubuntu 20.04.2 LTS) / x86_64  OK    OK    OK  UNNEEDED, same version is already published
riesling1Windows Server 2019 Standard / x64  OK    OK    OK    OK  UNNEEDED, same version is already published
merida1macOS 10.14.6 Mojave / x86_64  OK    OK    OK    OK  UNNEEDED, same version is already published
machv2macOS 10.14.6 Mojave / x86_64  OK    OK    OK    OK  

Summary

Package: CluMSID
Version: 1.9.0
Command: rm -rf CluMSID.buildbin-libdir && mkdir CluMSID.buildbin-libdir && /Users/biocbuild/BBS/utils/build-universal.sh CluMSID_1.9.0.tar.gz /Library/Frameworks/R.framework/Resources/bin/R CluMSID.buildbin-libdir
StartedAt: 2021-10-26 10:45:20 -0400 (Tue, 26 Oct 2021)
EndedAt: 2021-10-26 10:46:40 -0400 (Tue, 26 Oct 2021)
EllapsedTime: 80.0 seconds
RetCode: 0
Status:   OK  
PackageFile: CluMSID_1.9.0.tgz
PackageFileSize: 4.462 MiB

Command output

##############################################################################
##############################################################################
###
### Running command:
###
###   rm -rf CluMSID.buildbin-libdir && mkdir CluMSID.buildbin-libdir && /Users/biocbuild/BBS/utils/build-universal.sh CluMSID_1.9.0.tar.gz /Library/Frameworks/R.framework/Resources/bin/R CluMSID.buildbin-libdir
###
##############################################################################
##############################################################################


>>>>>>> 
>>>>>>> INSTALLATION WITH 'R CMD INSTALL --preclean --no-multiarch --library=CluMSID.buildbin-libdir CluMSID_1.9.0.tar.gz'
>>>>>>> 

* installing *source* package ‘CluMSID’ ...
** using staged installation
** R
** inst
** byte-compile and prepare package for lazy loading
** help
*** installing help indices
** building package indices
** installing vignettes
** testing if installed package can be loaded from temporary location
** testing if installed package can be loaded from final location
** testing if installed package keeps a record of temporary installation path
* DONE (CluMSID)