Name | Last modified | Size | Description | |
---|---|---|---|---|
Parent Directory | - | |||
install-out.txt | 10-May-2024 00:40 | 2.2K | ||
install-summary.dcf | 10-May-2024 00:40 | 273 | ||
buildsrc-out.txt | 10-May-2024 00:40 | 917 | ||
buildsrc-summary.dcf | 10-May-2024 00:40 | 432 | ||
checksrc-out.txt | 10-May-2024 00:40 | 20K | ||
checksrc-summary.dcf | 10-May-2024 00:40 | 464 | ||