Name | Last modified | Size | Description | |
---|---|---|---|---|
Parent Directory | - | |||
buildbin-out.txt | 12-Jun-2024 03:43 | 6.1K | ||
buildbin-summary.dcf | 12-Jun-2024 03:43 | 539 | ||
buildsrc-out.txt | 12-Jun-2024 03:43 | 916 | ||
buildsrc-summary.dcf | 12-Jun-2024 03:43 | 432 | ||
checksrc-out.txt | 12-Jun-2024 03:43 | 18K | ||
checksrc-summary.dcf | 12-Jun-2024 03:43 | 457 | ||
install-out.txt | 12-Jun-2024 03:43 | 4.0K | ||
install-summary.dcf | 12-Jun-2024 03:43 | 272 | ||