Index of /checkResults/release/bioc-LATEST/Chicago/raw-results/riesling1

[ICO]NameLast modifiedSizeDescription

[DIR]Parent Directory  -  
[TXT]buildbin-out.txt19-Mar-2022 00:07 2.4K 
[   ]buildbin-summary.dcf19-Mar-2022 00:07 515  
[TXT]buildsrc-out.txt19-Mar-2022 00:07 899  
[   ]buildsrc-summary.dcf19-Mar-2022 00:07 452  
[TXT]checksrc-out.txt19-Mar-2022 00:07 3.3K 
[   ]checksrc-summary.dcf19-Mar-2022 00:07 447  
[TXT]install-out.txt19-Mar-2022 00:07 2.3K 
[   ]install-summary.dcf19-Mar-2022 00:07 268