Name | Last modified | Size | Description | |
---|---|---|---|---|
Parent Directory | - | |||
checksrc-out.txt | 10-Jul-2024 06:40 | 36K | ||
buildbin-out.txt | 10-Jul-2024 06:40 | 12K | ||
buildsrc-out.txt | 17-Jul-2024 06:39 | 2.0K | ||
install-out.txt | 17-Jul-2024 06:39 | 1.7K | ||
buildbin-summary.dcf | 10-Jul-2024 06:40 | 534 | ||
checksrc-summary.dcf | 10-Jul-2024 06:40 | 465 | ||
buildsrc-summary.dcf | 17-Jul-2024 06:39 | 376 | ||
install-summary.dcf | 17-Jul-2024 06:39 | 277 | ||