Name | Last modified | Size | Description | |
---|---|---|---|---|
Parent Directory | - | |||
checksrc-summary.dcf | 17-Jul-2024 06:38 | 431 | ||
checksrc-out.txt | 17-Jul-2024 06:38 | 35K | ||
buildsrc-summary.dcf | 17-Jul-2024 06:38 | 427 | ||
buildsrc-out.txt | 17-Jul-2024 06:38 | 896 | ||
install-out.txt | 17-Jul-2024 06:38 | 766K | ||
install-summary.dcf | 17-Jul-2024 06:38 | 266 | ||