Name | Last modified | Size | Description | |
---|---|---|---|---|
Parent Directory | - | |||
buildbin-out.txt | 17-Jul-2024 06:40 | 9.8K | ||
buildbin-summary.dcf | 17-Jul-2024 06:40 | 549 | ||
checksrc-summary.dcf | 17-Jul-2024 06:40 | 462 | ||
checksrc-out.txt | 17-Jul-2024 06:40 | 35K | ||
buildsrc-summary.dcf | 17-Jul-2024 06:40 | 437 | ||
buildsrc-out.txt | 17-Jul-2024 06:40 | 906 | ||
install-summary.dcf | 17-Jul-2024 06:40 | 276 | ||
install-out.txt | 17-Jul-2024 06:40 | 7.5K | ||