Name | Last modified | Size | Description | |
---|---|---|---|---|
Parent Directory | - | |||
buildsrc-out.txt | 10-May-2024 00:40 | 907 | ||
buildsrc-summary.dcf | 10-May-2024 00:40 | 438 | ||
checksrc-out.txt | 10-May-2024 00:40 | 35K | ||
checksrc-summary.dcf | 10-May-2024 00:40 | 469 | ||
install-out.txt | 10-May-2024 00:40 | 766K | ||
install-summary.dcf | 10-May-2024 00:40 | 277 | ||