Index of /checkResults/release/bioc-LATEST/ChIPpeakAnno/raw-results

[ICO]NameLast modifiedSizeDescription

[DIR]Parent Directory  -  
[   ]info.dcf09-Jun-2023 00:06 280  
[DIR]merida1/09-Jun-2023 00:06 -  
[DIR]nebbiolo1/09-Jun-2023 00:05 -  
[DIR]palomino3/09-Jun-2023 00:06 -