Back to Multiple platform build/check report for BioC 3.18:   simplified   long
AB[C]DEFGHIJKLMNOPQRSTUVWXYZ

This page was generated on 2024-02-21 11:36:41 -0500 (Wed, 21 Feb 2024).

HostnameOSArch (*)R versionInstalled pkgs
nebbiolo2Linux (Ubuntu 22.04.3 LTS)x86_644.3.2 Patched (2023-11-13 r85521) -- "Eye Holes" 4691
palomino4Windows Server 2022 Datacenterx644.3.2 (2023-10-31 ucrt) -- "Eye Holes" 4444
lconwaymacOS 12.7.1 Montereyx86_644.3.2 Patched (2023-11-01 r85457) -- "Eye Holes" 4465
Click on any hostname to see more info about the system (e.g. compilers)      (*) as reported by 'uname -p', except on Windows and Mac OS X

Package 333/2266HostnameOS / ArchINSTALLBUILDCHECKBUILD BIN
ChIPpeakAnno 3.36.1  (landing page)
Jianhong Ou
Snapshot Date: 2024-02-20 14:05:06 -0500 (Tue, 20 Feb 2024)
git_url: https://git.bioconductor.org/packages/ChIPpeakAnno
git_branch: RELEASE_3_18
git_last_commit: 105ec60
git_last_commit_date: 2024-02-15 15:06:09 -0500 (Thu, 15 Feb 2024)
nebbiolo2Linux (Ubuntu 22.04.3 LTS) / x86_64  OK    OK    OK  UNNEEDED, same version is already published
palomino4Windows Server 2022 Datacenter / x64  OK    OK    OK    OK  UNNEEDED, same version is already published
lconwaymacOS 12.7.1 Monterey / x86_64  OK    OK    OK    OK  UNNEEDED, same version is already published
kjohnson1macOS 13.6.1 Ventura / arm64see weekly results here

BUILD BIN results for ChIPpeakAnno on palomino4


To the developers/maintainers of the ChIPpeakAnno package:
- Allow up to 24 hours (and sometimes 48 hours) for your latest push to git@git.bioconductor.org:packages/ChIPpeakAnno.git to reflect on this report. See Troubleshooting Build Report for more information.
- Use the following Renviron settings to reproduce errors and warnings.
- If 'R CMD check' started to fail recently on the Linux builder(s) over a missing dependency, add the missing dependency to 'Suggests:' in your DESCRIPTION file. See Renviron.bioc for more information.

raw results


Summary

Package: ChIPpeakAnno
Version: 3.36.1
Command: rm -rf ChIPpeakAnno.buildbin-libdir && mkdir ChIPpeakAnno.buildbin-libdir && F:\biocbuild\bbs-3.18-bioc\R\bin\R.exe CMD INSTALL --build --library=ChIPpeakAnno.buildbin-libdir ChIPpeakAnno_3.36.1.tar.gz
StartedAt: 2024-02-21 08:29:08 -0500 (Wed, 21 Feb 2024)
EndedAt: 2024-02-21 08:31:15 -0500 (Wed, 21 Feb 2024)
EllapsedTime: 126.8 seconds
RetCode: 0
Status:   OK  
PackageFile: ChIPpeakAnno_3.36.1.zip
PackageFileSize: 18.49 MiB

Command output

##############################################################################
##############################################################################
###
### Running command:
###
###   rm -rf ChIPpeakAnno.buildbin-libdir && mkdir ChIPpeakAnno.buildbin-libdir && F:\biocbuild\bbs-3.18-bioc\R\bin\R.exe CMD INSTALL --build --library=ChIPpeakAnno.buildbin-libdir ChIPpeakAnno_3.36.1.tar.gz
###
##############################################################################
##############################################################################


* installing *source* package 'ChIPpeakAnno' ...
** using staged installation
** R
** data
*** moving datasets to lazyload DB
** inst
** byte-compile and prepare package for lazy loading
in method for 'annoGR' with signature '"EnsDb"': no definition for class "EnsDb"
in method for 'toGRanges' with signature '"EnsDb"': no definition for class "EnsDb"
** help
*** installing help indices
** building package indices
** installing vignettes
** testing if installed package can be loaded from temporary location
** testing if installed package can be loaded from final location
** testing if installed package keeps a record of temporary installation path
* MD5 sums
packaged installation of 'ChIPpeakAnno' as ChIPpeakAnno_3.36.1.zip
* DONE (ChIPpeakAnno)