Name | Last modified | Size | Description | |
---|---|---|---|---|
Parent Directory | - | |||
install-summary.dcf | 24-Jul-2024 22:04 | 279 | ||
checksrc-summary.dcf | 24-Jul-2024 22:04 | 467 | ||
buildsrc-summary.dcf | 24-Jul-2024 22:04 | 474 | ||
buildbin-summary.dcf | 24-Jul-2024 22:04 | 546 | ||
buildsrc-out.txt | 24-Jul-2024 22:04 | 897 | ||
install-out.txt | 24-Jul-2024 22:04 | 1.1K | ||
buildbin-out.txt | 24-Jul-2024 22:04 | 1.2K | ||
checksrc-out.txt | 24-Jul-2024 22:04 | 4.3K | ||