Index of /checkResults/release/bioc-LATEST/ChIPanalyser/raw-results/lconway

[ICO]NameLast modifiedSizeDescription

[DIR]Parent Directory  -  
[TXT]buildbin-out.txt29-May-2024 00:35 1.3K 
[   ]buildbin-summary.dcf29-May-2024 00:35 559  
[TXT]buildsrc-out.txt29-May-2024 00:35 868  
[   ]buildsrc-summary.dcf29-May-2024 00:35 442  
[TXT]checksrc-out.txt29-May-2024 00:35 4.3K 
[   ]checksrc-summary.dcf29-May-2024 00:35 464  
[TXT]install-out.txt29-May-2024 00:35 1.1K 
[   ]install-summary.dcf29-May-2024 00:35 279