Back to Multiple platform build/check report for BioC 3.18:   simplified   long
AB[C]DEFGHIJKLMNOPQRSTUVWXYZ

This page was generated on 2024-03-04 11:36:18 -0500 (Mon, 04 Mar 2024).

HostnameOSArch (*)R versionInstalled pkgs
nebbiolo2Linux (Ubuntu 22.04.3 LTS)x86_644.3.2 Patched (2023-11-13 r85521) -- "Eye Holes" 4692
palomino4Windows Server 2022 Datacenterx644.3.2 (2023-10-31 ucrt) -- "Eye Holes" 4445
lconwaymacOS 12.7.1 Montereyx86_644.3.2 Patched (2023-11-01 r85457) -- "Eye Holes" 4466
Click on any hostname to see more info about the system (e.g. compilers)      (*) as reported by 'uname -p', except on Windows and Mac OS X

Package 334/2266HostnameOS / ArchINSTALLBUILDCHECKBUILD BIN
ChIPQC 1.38.0  (landing page)
Tom Carroll , Rory Stark
Snapshot Date: 2024-03-03 14:05:05 -0500 (Sun, 03 Mar 2024)
git_url: https://git.bioconductor.org/packages/ChIPQC
git_branch: RELEASE_3_18
git_last_commit: 850e458
git_last_commit_date: 2023-10-24 09:58:19 -0500 (Tue, 24 Oct 2023)
nebbiolo2Linux (Ubuntu 22.04.3 LTS) / x86_64  OK    OK    WARNINGS  UNNEEDED, same version is already published
palomino4Windows Server 2022 Datacenter / x64  OK    OK    WARNINGS    OK  UNNEEDED, same version is already published
lconwaymacOS 12.7.1 Monterey / x86_64  OK    OK    WARNINGS    OK  UNNEEDED, same version is already published
kjohnson1macOS 13.6.1 Ventura / arm64see weekly results here

BUILD results for ChIPQC on palomino4


To the developers/maintainers of the ChIPQC package:
- Allow up to 24 hours (and sometimes 48 hours) for your latest push to git@git.bioconductor.org:packages/ChIPQC.git to reflect on this report. See Troubleshooting Build Report for more information.
- Use the following Renviron settings to reproduce errors and warnings.
- If 'R CMD check' started to fail recently on the Linux builder(s) over a missing dependency, add the missing dependency to 'Suggests:' in your DESCRIPTION file. See Renviron.bioc for more information.

raw results


Summary

Package: ChIPQC
Version: 1.38.0
Command: chmod a+r ChIPQC -R && F:\biocbuild\bbs-3.18-bioc\R\bin\R.exe CMD build --keep-empty-dirs --no-resave-data ChIPQC
StartedAt: 2024-03-03 17:42:53 -0500 (Sun, 03 Mar 2024)
EndedAt: 2024-03-03 17:44:28 -0500 (Sun, 03 Mar 2024)
EllapsedTime: 94.6 seconds
RetCode: 0
Status:   OK  
PackageFile: ChIPQC_1.38.0.tar.gz
PackageFileSize: 1.527 MiB

Command output

##############################################################################
##############################################################################
###
### Running command:
###
###   chmod a+r ChIPQC -R && F:\biocbuild\bbs-3.18-bioc\R\bin\R.exe CMD build --keep-empty-dirs --no-resave-data ChIPQC
###
##############################################################################
##############################################################################


* checking for file 'ChIPQC/DESCRIPTION' ... OK
* preparing 'ChIPQC':
* checking DESCRIPTION meta-information ... OK
* installing the package to build vignettes
* creating vignettes ... OK
* checking for LF line-endings in source and make files and shell scripts
* checking for empty or unneeded directories
* looking to see if a 'data/datalist' file should be added
* building 'ChIPQC_1.38.0.tar.gz'