Index of /checkResults/release/bioc-LATEST/ChIPComp/raw-results/palomino4

[ICO]NameLast modifiedSizeDescription

[DIR]Parent Directory  -  
[TXT]buildbin-out.txt01-Mar-2024 01:36 1.7K 
[   ]buildbin-summary.dcf01-Mar-2024 01:36 521  
[TXT]buildsrc-out.txt01-Mar-2024 01:36 936  
[   ]buildsrc-summary.dcf01-Mar-2024 01:36 456  
[TXT]checksrc-out.txt01-Mar-2024 01:36 6.2K 
[   ]checksrc-summary.dcf01-Mar-2024 01:36 451  
[TXT]install-out.txt01-Mar-2024 01:36 1.6K 
[   ]install-summary.dcf01-Mar-2024 01:36 270