Index of /checkResults/release/bioc-LATEST/ChIPComp/raw-results/nebbiolo2

[ICO]NameLast modifiedSizeDescription

[DIR]Parent Directory  -  
[TXT]buildsrc-out.txt02-Mar-2024 01:35 903  
[   ]buildsrc-summary.dcf02-Mar-2024 01:35 420  
[TXT]checksrc-out.txt02-Mar-2024 01:35 5.9K 
[   ]checksrc-summary.dcf02-Mar-2024 01:35 418  
[TXT]install-out.txt02-Mar-2024 01:35 1.4K 
[   ]install-summary.dcf02-Mar-2024 01:35 261