Name | Last modified | Size | Description | |
---|---|---|---|---|
Parent Directory | - | |||
install-summary.dcf | 24-Jul-2024 22:03 | 261 | ||
checksrc-summary.dcf | 24-Jul-2024 22:03 | 418 | ||
buildsrc-summary.dcf | 24-Jul-2024 22:03 | 420 | ||
buildsrc-out.txt | 24-Jul-2024 22:03 | 903 | ||
install-out.txt | 24-Jul-2024 22:03 | 1.4K | ||
checksrc-out.txt | 24-Jul-2024 22:03 | 5.8K | ||