Name | Last modified | Size | Description | |
---|---|---|---|---|
Parent Directory | - | |||
install-summary.dcf | 24-Jul-2024 22:05 | 271 | ||
buildsrc-summary.dcf | 24-Jul-2024 22:05 | 431 | ||
checksrc-summary.dcf | 24-Jul-2024 22:05 | 448 | ||
buildbin-summary.dcf | 24-Jul-2024 22:05 | 536 | ||
buildsrc-out.txt | 24-Jul-2024 22:05 | 913 | ||
install-out.txt | 24-Jul-2024 22:05 | 1.7K | ||
buildbin-out.txt | 24-Jul-2024 22:05 | 3.6K | ||
checksrc-out.txt | 24-Jul-2024 22:05 | 5.9K | ||