Name | Last modified | Size | Description | |
---|---|---|---|---|
Parent Directory | - | |||
install-summary.dcf | 12-Jun-2024 03:42 | 271 | ||
install-out.txt | 12-Jun-2024 03:42 | 1.7K | ||
checksrc-summary.dcf | 12-Jun-2024 03:42 | 448 | ||
checksrc-out.txt | 12-Jun-2024 03:42 | 5.9K | ||
buildsrc-summary.dcf | 12-Jun-2024 03:42 | 430 | ||
buildsrc-out.txt | 12-Jun-2024 03:42 | 913 | ||
buildbin-summary.dcf | 12-Jun-2024 03:42 | 536 | ||
buildbin-out.txt | 12-Jun-2024 03:42 | 3.6K | ||