Index of /checkResults/release/bioc-LATEST/ChIPComp/raw-results/lconway

[ICO]NameLast modifiedSizeDescription

[DIR]Parent Directory  -  
[TXT]buildbin-out.txt23-Feb-2024 01:37 3.6K 
[   ]buildbin-summary.dcf23-Feb-2024 01:37 536  
[TXT]buildsrc-out.txt23-Feb-2024 01:37 913  
[   ]buildsrc-summary.dcf23-Feb-2024 01:37 430  
[TXT]checksrc-out.txt23-Feb-2024 01:37 5.9K 
[   ]checksrc-summary.dcf23-Feb-2024 01:37 448  
[TXT]install-out.txt23-Feb-2024 01:37 1.7K 
[   ]install-summary.dcf23-Feb-2024 01:37 271