Back to Multiple platform build/check report for BioC 3.14
AB[C]DEFGHIJKLMNOPQRSTUVWXYZ

This page was generated on 2021-12-06 13:05:19 -0500 (Mon, 06 Dec 2021).

BUILD results for ChAMP on tokay2

To the developers/maintainers of the ChAMP package:
- Please allow up to 24 hours (and sometimes 48 hours) for your latest push to git@git.bioconductor.org:packages/ChAMP.git to
reflect on this report. See How and When does the builder pull? When will my changes propagate? here for more information.
- Make sure to use the following settings in order to reproduce any error or warning you see on this page.

raw results

Package 291/2083HostnameOS / ArchINSTALLBUILDCHECKBUILD BIN
ChAMP 2.24.0  (landing page)
Yuan Tian
Snapshot Date: 2021-12-05 01:55:05 -0500 (Sun, 05 Dec 2021)
git_url: https://git.bioconductor.org/packages/ChAMP
git_branch: RELEASE_3_14
git_last_commit: 7ba19da
git_last_commit_date: 2021-10-26 12:10:42 -0500 (Tue, 26 Oct 2021)
nebbiolo2Linux (Ubuntu 20.04.3 LTS) / x86_64  OK    OK    WARNINGS  UNNEEDED, same version is already published
tokay2Windows Server 2012 R2 Standard / x64  OK    OK    WARNINGS    OK  NO, package depends on 'DMRcate' which is not available
machv2macOS 10.14.6 Mojave / x86_64  OK    OK    WARNINGS    OK  NO, package depends on 'DMRcate' which is not available

Summary

Package: ChAMP
Version: 2.24.0
Command: chmod a+r ChAMP -R && C:\Users\biocbuild\bbs-3.14-bioc\R\bin\R.exe CMD build --keep-empty-dirs --no-resave-data ChAMP
StartedAt: 2021-12-05 09:29:21 -0500 (Sun, 05 Dec 2021)
EndedAt: 2021-12-05 09:32:07 -0500 (Sun, 05 Dec 2021)
EllapsedTime: 165.7 seconds
RetCode: 0
Status:   OK  
PackageFile: ChAMP_2.24.0.tar.gz
PackageFileSize: 7.889 MiB

Command output

##############################################################################
##############################################################################
###
### Running command:
###
###   chmod a+r ChAMP -R && C:\Users\biocbuild\bbs-3.14-bioc\R\bin\R.exe CMD build --keep-empty-dirs --no-resave-data ChAMP
###
##############################################################################
##############################################################################


* checking for file 'ChAMP/DESCRIPTION' ... OK
* preparing 'ChAMP':
* checking DESCRIPTION meta-information ... OK
* installing the package to build vignettes
* creating vignettes ... OK
* checking for LF line-endings in source and make files and shell scripts
* checking for empty or unneeded directories
Omitted 'LazyData' from DESCRIPTION
* building 'ChAMP_2.24.0.tar.gz'