Back to Multiple platform build/check report for BioC 3.14
AB[C]DEFGHIJKLMNOPQRSTUVWXYZ

This page was generated on 2021-12-03 13:05:09 -0500 (Fri, 03 Dec 2021).

BUILD BIN results for CellScore on tokay2

To the developers/maintainers of the CellScore package:
- Please allow up to 24 hours (and sometimes 48 hours) for your latest push to git@git.bioconductor.org:packages/CellScore.git to
reflect on this report. See How and When does the builder pull? When will my changes propagate? here for more information.
- Make sure to use the following settings in order to reproduce any error or warning you see on this page.

raw results

Package 274/2083HostnameOS / ArchINSTALLBUILDCHECKBUILD BIN
CellScore 1.14.0  (landing page)
Nancy Mah
Snapshot Date: 2021-12-02 01:55:06 -0500 (Thu, 02 Dec 2021)
git_url: https://git.bioconductor.org/packages/CellScore
git_branch: RELEASE_3_14
git_last_commit: f1b13c0
git_last_commit_date: 2021-10-26 12:41:51 -0500 (Tue, 26 Oct 2021)
nebbiolo2Linux (Ubuntu 20.04.3 LTS) / x86_64  OK    OK    OK  UNNEEDED, same version is already published
tokay2Windows Server 2012 R2 Standard / x64  OK    OK    OK    OK  UNNEEDED, same version is already published
machv2macOS 10.14.6 Mojave / x86_64  OK    OK    OK    OK  UNNEEDED, same version is already published

Summary

Package: CellScore
Version: 1.14.0
Command: rm -rf CellScore.buildbin-libdir && mkdir CellScore.buildbin-libdir && C:\Users\biocbuild\bbs-3.14-bioc\R\bin\R.exe CMD INSTALL --merge-multiarch --build --library=CellScore.buildbin-libdir CellScore_1.14.0.tar.gz
StartedAt: 2021-12-03 06:45:41 -0500 (Fri, 03 Dec 2021)
EndedAt: 2021-12-03 06:47:12 -0500 (Fri, 03 Dec 2021)
EllapsedTime: 90.9 seconds
RetCode: 0
Status:   OK  
PackageFile: CellScore_1.14.0.zip
PackageFileSize: 4.278 MiB

Command output

##############################################################################
##############################################################################
###
### Running command:
###
###   rm -rf CellScore.buildbin-libdir && mkdir CellScore.buildbin-libdir && C:\Users\biocbuild\bbs-3.14-bioc\R\bin\R.exe CMD INSTALL --merge-multiarch --build --library=CellScore.buildbin-libdir CellScore_1.14.0.tar.gz
###
##############################################################################
##############################################################################



install for i386

* installing *source* package 'CellScore' ...
** using staged installation
** R
** inst
** byte-compile and prepare package for lazy loading
** help
*** installing help indices
  converting help for package 'CellScore'
    finding HTML links ... done
    BarplotOnOff                            html  
    BoxplotCellScore                        html  
    CellScore                               html  
    CellScoreReport                         html  
    CosineSimScore                          html  
    OnOff                                   html  
    PcaStandards                            html  
    PlotCosineSimHeatmap                    html  
    RugplotCellScore                        html  
    ScatterplotCellScoreComponents          html  
    extractTransitions                      html  
    heatmapOnOffMarkers                     html  
    rugplotDonorTargetTest                  html  
    scatterplotDonorTargetTest              html  
** building package indices
** installing vignettes
** testing if installed package can be loaded from temporary location
** testing if installed package can be loaded from final location
** testing if installed package keeps a record of temporary installation path

install for x64

* installing *source* package 'CellScore' ...
** testing if installed package can be loaded
* MD5 sums
packaged installation of 'CellScore' as CellScore_1.14.0.zip
* DONE (CellScore)