Back to Multiple platform build/check report for BioC 3.16:   simplified   long
AB[C]DEFGHIJKLMNOPQRSTUVWXYZ

This page was generated on 2023-03-22 11:04:58 -0400 (Wed, 22 Mar 2023).

HostnameOSArch (*)R versionInstalled pkgs
nebbiolo2Linux (Ubuntu 20.04.5 LTS)x86_644.2.3 (2023-03-15) -- "Shortstop Beagle" 4271
palomino4Windows Server 2022 Datacenterx644.2.3 (2023-03-15 ucrt) -- "Shortstop Beagle" 4214
lconwaymacOS 12.5.1 Montereyx86_644.2.3 (2023-03-15) -- "Shortstop Beagle" 4259
Click on any hostname to see more info about the system (e.g. compilers)      (*) as reported by 'uname -p', except on Windows and Mac OS X

BUILD results for CellMixS on nebbiolo2


To the developers/maintainers of the CellMixS package:
- Please allow up to 24 hours (and sometimes 48 hours) for your latest push to git@git.bioconductor.org:packages/CellMixS.git to
reflect on this report. See How and When does the builder pull? When will my changes propagate? for more information.
- Make sure to use the following settings in order to reproduce any error or warning you see on this page.

raw results

Package 281/2183HostnameOS / ArchINSTALLBUILDCHECKBUILD BIN
CellMixS 1.14.0  (landing page)
Almut Lütge
Snapshot Date: 2023-03-20 14:00:04 -0400 (Mon, 20 Mar 2023)
git_url: https://git.bioconductor.org/packages/CellMixS
git_branch: RELEASE_3_16
git_last_commit: 8a0f25b
git_last_commit_date: 2022-11-01 11:19:35 -0400 (Tue, 01 Nov 2022)
nebbiolo2Linux (Ubuntu 20.04.5 LTS) / x86_64  OK    OK    WARNINGS  UNNEEDED, same version is already published
palomino4Windows Server 2022 Datacenter / x64  OK    OK    OK    OK  UNNEEDED, same version is already published
lconwaymacOS 12.5.1 Monterey / x86_64  OK    OK    OK    OK  UNNEEDED, same version is already published

Summary

Package: CellMixS
Version: 1.14.0
Command: /home/biocbuild/bbs-3.16-bioc/R/bin/R CMD build --keep-empty-dirs --no-resave-data CellMixS
StartedAt: 2023-03-20 16:31:08 -0400 (Mon, 20 Mar 2023)
EndedAt: 2023-03-20 16:34:37 -0400 (Mon, 20 Mar 2023)
EllapsedTime: 209.3 seconds
RetCode: 0
Status:   OK  
PackageFile: CellMixS_1.14.0.tar.gz
PackageFileSize: 3.839 MiB

Command output

##############################################################################
##############################################################################
###
### Running command:
###
###   /home/biocbuild/bbs-3.16-bioc/R/bin/R CMD build --keep-empty-dirs --no-resave-data CellMixS
###
##############################################################################
##############################################################################


* checking for file ‘CellMixS/DESCRIPTION’ ... OK
* preparing ‘CellMixS’:
* checking DESCRIPTION meta-information ... OK
* installing the package to build vignettes
* creating vignettes ... OK
* checking for LF line-endings in source and make files and shell scripts
* checking for empty or unneeded directories
* looking to see if a ‘data/datalist’ file should be added
* building ‘CellMixS_1.14.0.tar.gz’