Index of /checkResults/release/bioc-LATEST/CellBench/raw-results
Name
Last modified
Size
Description
Parent Directory
-
merida1/
05-Mar-2024 01:38
-
kunpeng2/
10-May-2024 00:40
-
info.dcf
19-May-2024 00:34
267
nebbiolo1/
19-May-2024 00:35
-
palomino3/
19-May-2024 00:36
-
lconway/
19-May-2024 00:37
-