![]() | Name | Last modified | Size | Description |
---|---|---|---|---|
![]() | Parent Directory | - | ||
![]() | buildsrc-out.txt | 05-Oct-2023 00:35 | 824 | |
![]() | buildsrc-summary.dcf | 05-Oct-2023 00:35 | 409 | |
![]() | checksrc-out.txt | 05-Oct-2023 00:35 | 3.7K | |
![]() | checksrc-summary.dcf | 05-Oct-2023 00:35 | 402 | |
![]() | install-out.txt | 05-Oct-2023 00:35 | 1.9K | |
![]() | install-summary.dcf | 05-Oct-2023 00:35 | 253 | |