![]() | Name | Last modified | Size | Description |
---|---|---|---|---|
![]() | Parent Directory | - | ||
![]() | buildbin-out.txt | 23-Sep-2023 00:37 | 4.3K | |
![]() | buildbin-summary.dcf | 23-Sep-2023 00:37 | 513 | |
![]() | buildsrc-out.txt | 23-Sep-2023 00:37 | 834 | |
![]() | buildsrc-summary.dcf | 23-Sep-2023 00:37 | 419 | |
![]() | checksrc-out.txt | 23-Sep-2023 00:37 | 3.7K | |
![]() | checksrc-summary.dcf | 23-Sep-2023 00:37 | 432 | |
![]() | install-out.txt | 23-Sep-2023 00:37 | 2.3K | |
![]() | install-summary.dcf | 23-Sep-2023 00:37 | 264 | |