Back to Multiple platform build/check report for BioC 3.14
AB[C]DEFGHIJKLMNOPQRSTUVWXYZ

This page was generated on 2022-01-19 13:05:12 -0500 (Wed, 19 Jan 2022).

HostnameOSArch (*)R versionInstalled pkgs
nebbiolo2Linux (Ubuntu 20.04.4 LTS)x86_644.1.2 (2021-11-01) -- "Bird Hippie" 4328
tokay2Windows Server 2012 R2 Standardx644.1.2 (2021-11-01) -- "Bird Hippie" 4077
machv2macOS 10.14.6 Mojavex86_644.1.2 (2021-11-01) -- "Bird Hippie" 4138
Click on any hostname to see more info about the system (e.g. compilers)      (*) as reported by 'uname -p', except on Windows and Mac OS X

CHECK results for CeTF on nebbiolo2


To the developers/maintainers of the CeTF package:
- Please allow up to 24 hours (and sometimes 48 hours) for your latest push to git@git.bioconductor.org:packages/CeTF.git to
reflect on this report. See How and When does the builder pull? When will my changes propagate? here for more information.
- Make sure to use the following settings in order to reproduce any error or warning you see on this page.

raw results

Package 281/2083HostnameOS / ArchINSTALLBUILDCHECKBUILD BIN
CeTF 1.6.0  (landing page)
Carlos Alberto Oliveira de Biagi Junior
Snapshot Date: 2022-01-18 01:55:07 -0500 (Tue, 18 Jan 2022)
git_url: https://git.bioconductor.org/packages/CeTF
git_branch: RELEASE_3_14
git_last_commit: 65513aa
git_last_commit_date: 2021-10-26 12:56:35 -0500 (Tue, 26 Oct 2021)
nebbiolo2Linux (Ubuntu 20.04.4 LTS) / x86_64  OK    OK    OK  UNNEEDED, same version is already published
tokay2Windows Server 2012 R2 Standard / x64  OK    OK    OK    OK  UNNEEDED, same version is already published
machv2macOS 10.14.6 Mojave / x86_64  OK    OK    OK    OK  UNNEEDED, same version is already published

Summary

Package: CeTF
Version: 1.6.0
Command: /home/biocbuild/bbs-3.14-bioc/R/bin/R CMD check --install=check:CeTF.install-out.txt --library=/home/biocbuild/bbs-3.14-bioc/R/library --no-vignettes --timings CeTF_1.6.0.tar.gz
StartedAt: 2022-01-18 06:40:14 -0500 (Tue, 18 Jan 2022)
EndedAt: 2022-01-18 06:44:39 -0500 (Tue, 18 Jan 2022)
EllapsedTime: 264.9 seconds
RetCode: 0
Status:   OK  
CheckDir: CeTF.Rcheck
Warnings: 0

Command output

##############################################################################
##############################################################################
###
### Running command:
###
###   /home/biocbuild/bbs-3.14-bioc/R/bin/R CMD check --install=check:CeTF.install-out.txt --library=/home/biocbuild/bbs-3.14-bioc/R/library --no-vignettes --timings CeTF_1.6.0.tar.gz
###
##############################################################################
##############################################################################


* using log directory ‘/home/biocbuild/bbs-3.14-bioc/meat/CeTF.Rcheck’
* using R version 4.1.2 (2021-11-01)
* using platform: x86_64-pc-linux-gnu (64-bit)
* using session charset: UTF-8
* using option ‘--no-vignettes’
* checking for file ‘CeTF/DESCRIPTION’ ... OK
* checking extension type ... Package
* this is package ‘CeTF’ version ‘1.6.0’
* package encoding: UTF-8
* checking package namespace information ... OK
* checking package dependencies ... OK
* checking if this is a source package ... OK
* checking if there is a namespace ... OK
* checking for hidden files and directories ... OK
* checking for portable file names ... OK
* checking for sufficient/correct file permissions ... OK
* checking whether package ‘CeTF’ can be installed ... OK
* checking installed package size ... NOTE
  installed size is  5.6Mb
  sub-directories of 1Mb or more:
    data   1.5Mb
    libs   3.5Mb
* checking package directory ... OK
* checking ‘build’ directory ... OK
* checking DESCRIPTION meta-information ... OK
* checking top-level files ... OK
* checking for left-over files ... OK
* checking index information ... OK
* checking package subdirectories ... OK
* checking R files for non-ASCII characters ... OK
* checking R files for syntax errors ... OK
* checking whether the package can be loaded ... OK
* checking whether the package can be loaded with stated dependencies ... OK
* checking whether the package can be unloaded cleanly ... OK
* checking whether the namespace can be loaded with stated dependencies ... OK
* checking whether the namespace can be unloaded cleanly ... OK
* checking dependencies in R code ... OK
* checking S3 generic/method consistency ... OK
* checking replacement functions ... OK
* checking foreign function calls ... OK
* checking R code for possible problems ... OK
* checking Rd files ... OK
* checking Rd metadata ... OK
* checking Rd cross-references ... OK
* checking for missing documentation entries ... OK
* checking for code/documentation mismatches ... OK
* checking Rd \usage sections ... OK
* checking Rd contents ... OK
* checking for unstated dependencies in examples ... OK
* checking contents of ‘data’ directory ... OK
* checking data for non-ASCII characters ... OK
* checking LazyData ... OK
* checking data for ASCII and uncompressed saves ... OK
* checking line endings in C/C++/Fortran sources/headers ... OK
* checking compiled code ... NOTE
Note: information on .o files is not available
* checking files in ‘vignettes’ ... OK
* checking examples ... OK
* checking for unstated dependencies in ‘tests’ ... OK
* checking tests ...
  Running ‘testthat.R’
 OK
* checking for unstated dependencies in vignettes ... OK
* checking package vignettes in ‘inst/doc’ ... OK
* checking running R code from vignettes ... SKIPPED
* checking re-building of vignette outputs ... SKIPPED
* checking PDF version of manual ... OK
* DONE

Status: 2 NOTEs
See
  ‘/home/biocbuild/bbs-3.14-bioc/meat/CeTF.Rcheck/00check.log’
for details.



Installation output

CeTF.Rcheck/00install.out

##############################################################################
##############################################################################
###
### Running command:
###
###   /home/biocbuild/bbs-3.14-bioc/R/bin/R CMD INSTALL CeTF
###
##############################################################################
##############################################################################


* installing to library ‘/home/biocbuild/bbs-3.14-bioc/R/library’
* installing *source* package ‘CeTF’ ...
** using staged installation
** libs
g++ -std=gnu++14 -I"/home/biocbuild/bbs-3.14-bioc/R/include" -DNDEBUG  -I'/home/biocbuild/bbs-3.14-bioc/R/library/Rcpp/include' -I'/home/biocbuild/bbs-3.14-bioc/R/library/RcppArmadillo/include' -I/usr/local/include   -fpic  -g -O2  -Wall -c PCIT.cpp -o PCIT.o
g++ -std=gnu++14 -I"/home/biocbuild/bbs-3.14-bioc/R/include" -DNDEBUG  -I'/home/biocbuild/bbs-3.14-bioc/R/library/Rcpp/include' -I'/home/biocbuild/bbs-3.14-bioc/R/library/RcppArmadillo/include' -I/usr/local/include   -fpic  -g -O2  -Wall -c RcppExports.cpp -o RcppExports.o
g++ -std=gnu++14 -shared -L/home/biocbuild/bbs-3.14-bioc/R/lib -L/usr/local/lib -o CeTF.so PCIT.o RcppExports.o -L/home/biocbuild/bbs-3.14-bioc/R/lib -lR
installing to /home/biocbuild/bbs-3.14-bioc/R/library/00LOCK-CeTF/00new/CeTF/libs
** R
** data
*** moving datasets to lazyload DB
** inst
** byte-compile and prepare package for lazy loading
** help
*** installing help indices
** building package indices
** installing vignettes
** testing if installed package can be loaded from temporary location
** checking absolute paths in shared objects and dynamic libraries
** testing if installed package can be loaded from final location
** testing if installed package keeps a record of temporary installation path
* DONE (CeTF)

Tests output

CeTF.Rcheck/tests/testthat.Rout


R version 4.1.2 (2021-11-01) -- "Bird Hippie"
Copyright (C) 2021 The R Foundation for Statistical Computing
Platform: x86_64-pc-linux-gnu (64-bit)

R is free software and comes with ABSOLUTELY NO WARRANTY.
You are welcome to redistribute it under certain conditions.
Type 'license()' or 'licence()' for distribution details.

R is a collaborative project with many contributors.
Type 'contributors()' for more information and
'citation()' on how to cite R or R packages in publications.

Type 'demo()' for some demos, 'help()' for on-line help, or
'help.start()' for an HTML browser interface to help.
Type 'q()' to quit R.

> library("testthat")
> library("CeTF")

========================================
CeTF version 1.6.0
Bioconductor page: http://bioconductor.org/packages/CeTF/
Github page: https://github.com/cbiagii/CeTF or https://cbiagii.github.io/CeTF/
Documentation: http://bioconductor.org/packages/CeTF/
If you use it in published research, please cite:

Carlos Alberto Oliveira de Biagi Junior, Ricardo Perecin Nociti, Breno Osvaldo 
Funicheli, Patricia de Cassia Ruy, Joao Paulo Bianchi Ximenez, Wilson A Silva Jr.
CeTF: an R package to Coexpression for Transcription Factors using Regulatory 
Impact Factors (RIF) and Partial Correlation and Information (PCIT) analysis.
bioRxiv. 2020, DOI: 10.1101/2020.03.30.015784
========================================

> test_check("CeTF")
[ FAIL 0 | WARN 0 | SKIP 0 | PASS 43 ]
> 
> proc.time()
   user  system elapsed 
 12.629   0.491  13.106 

Example timings

CeTF.Rcheck/CeTF-Ex.timings

nameusersystemelapsed
CeTFdemo0.0030.0000.002
CircosTargets000
InputData-methods0.0100.0120.021
NetworkData-methods0.0220.0000.021
OutputData-methods0.0120.0160.028
PCIT0.0170.0000.017
RIF0.0410.0000.041
RIFPlot0.4200.0080.428
RIF_input0.0010.0000.001
SmearPlot1.1540.0241.179
TFs0.0000.0000.001
bivar.awk0.0000.0010.001
clustCoef0.0220.0060.028
clustCoefPercentage0.0260.0000.027
densityPlot1.1980.0561.254
diffusion000
enrichPlot0.5490.0000.550
enrichdemo000
expDiff0.2530.0000.253
getDE-methods0.030.000.03
getData-methods0.0090.0040.013
getEnrich0.0010.0000.000
getGroupGO000
heatPlot0.9160.0881.005
histPlot0.2940.0040.298
netConditionsPlot2.1650.4962.661
netGOTFPlot000
normExp0.0830.0120.094
pcitC0.0260.0000.026
refGenes0.0010.0000.001
runAnalysis0.3490.0200.369
simCounts0.0010.0000.001
simNorm0.0010.0000.001
tolerance0.0010.0000.000