Index of /checkResults/release/bioc-LATEST/Cardinal/raw-results/palomino3

[ICO]NameLast modifiedSizeDescription

[DIR]Parent Directory  -  
[TXT]buildbin-out.txt02-Jul-2022 01:06 3.6K 
[   ]buildbin-summary.dcf02-Jul-2022 01:06 521  
[TXT]buildsrc-out.txt02-Jul-2022 01:06 876  
[   ]buildsrc-summary.dcf02-Jul-2022 01:06 457  
[TXT]checksrc-out.txt02-Jul-2022 01:06 3.7K 
[   ]checksrc-summary.dcf02-Jul-2022 01:06 451  
[TXT]install-out.txt02-Jul-2022 01:06 3.5K 
[   ]install-summary.dcf02-Jul-2022 01:06 270