Index of /checkResults/release/bioc-LATEST/Cardinal/raw-results/nebbiolo1

[ICO]NameLast modifiedSizeDescription

[DIR]Parent Directory  -  
[   ]install-summary.dcf16-Aug-2022 02:20 261  
[   ]buildsrc-summary.dcf16-Aug-2022 02:20 421  
[   ]checksrc-summary.dcf16-Aug-2022 02:20 428  
[TXT]buildsrc-out.txt16-Aug-2022 02:20 840  
[TXT]install-out.txt16-Aug-2022 02:20 2.2K 
[TXT]checksrc-out.txt16-Aug-2022 02:20 3.2K