![]() | Name | Last modified | Size | Description |
---|---|---|---|---|
![]() | Parent Directory | - | ||
![]() | buildsrc-out.txt | 01-Oct-2023 00:35 | 839 | |
![]() | buildsrc-summary.dcf | 01-Oct-2023 00:35 | 419 | |
![]() | checksrc-out.txt | 01-Oct-2023 00:35 | 3.6K | |
![]() | checksrc-summary.dcf | 01-Oct-2023 00:35 | 416 | |
![]() | install-out.txt | 01-Oct-2023 00:35 | 2.2K | |
![]() | install-summary.dcf | 01-Oct-2023 00:35 | 260 | |