Index of /checkResults/release/bioc-LATEST/Cardinal/raw-results/merida1

[ICO]NameLast modifiedSizeDescription

[DIR]Parent Directory  -  
[TXT]buildbin-out.txt02-Jul-2022 01:07 3.6K 
[   ]buildbin-summary.dcf02-Jul-2022 01:07 537  
[TXT]buildsrc-out.txt02-Jul-2022 01:07 850  
[   ]buildsrc-summary.dcf02-Jul-2022 01:07 431  
[TXT]checksrc-out.txt02-Jul-2022 01:07 3.5K 
[   ]checksrc-summary.dcf02-Jul-2022 01:07 448  
[TXT]install-out.txt02-Jul-2022 01:07 2.8K 
[   ]install-summary.dcf02-Jul-2022 01:07 271