Name | Last modified | Size | Description | |
---|---|---|---|---|
Parent Directory | - | |||
checksrc-summary.dcf | 10-Jul-2024 06:39 | 446 | ||
checksrc-out.txt | 10-Jul-2024 06:39 | 4.8K | ||
buildsrc-out.txt | 10-Jul-2024 06:39 | 1.1K | ||
buildsrc-summary.dcf | 10-Jul-2024 06:39 | 438 | ||
install-summary.dcf | 10-Jul-2024 06:39 | 273 | ||
install-out.txt | 10-Jul-2024 06:39 | 1.2K | ||