Name | Last modified | Size | Description | |
---|---|---|---|---|
Parent Directory | - | |||
buildbin-out.txt | 23-May-2024 00:36 | 3.5K | ||
install-out.txt | 23-May-2024 00:36 | 1.7K | ||
checksrc-out.txt | 23-May-2024 00:36 | 1.5K | ||
buildsrc-out.txt | 23-May-2024 00:36 | 834 | ||
buildbin-summary.dcf | 23-May-2024 00:36 | 512 | ||
checksrc-summary.dcf | 23-May-2024 00:36 | 434 | ||
buildsrc-summary.dcf | 23-May-2024 00:36 | 416 | ||
install-summary.dcf | 23-May-2024 00:36 | 263 | ||