Back to Multiple platform build/check report for BioC 3.14
AB[C]DEFGHIJKLMNOPQRSTUVWXYZ

This page was generated on 2021-11-29 15:05:18 -0500 (Mon, 29 Nov 2021).

BUILD results for CRISPRseek on tokay2

To the developers/maintainers of the CRISPRseek package:
- Please allow up to 24 hours (and sometimes 48 hours) for your latest push to git@git.bioconductor.org:packages/CRISPRseek.git to
reflect on this report. See How and When does the builder pull? When will my changes propagate? here for more information.
- Make sure to use the following settings in order to reproduce any error or warning you see on this page.

raw results

Package 416/2083HostnameOS / ArchINSTALLBUILDCHECKBUILD BIN
CRISPRseek 1.34.0  (landing page)
Lihua Julie Zhu
Snapshot Date: 2021-11-28 04:15:06 -0500 (Sun, 28 Nov 2021)
git_url: https://git.bioconductor.org/packages/CRISPRseek
git_branch: RELEASE_3_14
git_last_commit: 11159db
git_last_commit_date: 2021-10-26 12:11:02 -0500 (Tue, 26 Oct 2021)
nebbiolo2Linux (Ubuntu 20.04.3 LTS) / x86_64  OK    OK    OK  UNNEEDED, same version is already published
tokay2Windows Server 2012 R2 Standard / x64  OK    OK    ERROR    OK  
machv2macOS 10.14.6 Mojave / x86_64  OK    OK    OK    OK  UNNEEDED, same version is already published

Summary

Package: CRISPRseek
Version: 1.34.0
Command: chmod a+r CRISPRseek -R && C:\Users\biocbuild\bbs-3.14-bioc\R\bin\R.exe CMD build --keep-empty-dirs --no-resave-data CRISPRseek
StartedAt: 2021-11-28 11:35:39 -0500 (Sun, 28 Nov 2021)
EndedAt: 2021-11-28 11:38:54 -0500 (Sun, 28 Nov 2021)
EllapsedTime: 195.0 seconds
RetCode: 0
Status:   OK  
PackageFile: CRISPRseek_1.34.0.tar.gz
PackageFileSize: 10.69 MiB

Command output

##############################################################################
##############################################################################
###
### Running command:
###
###   chmod a+r CRISPRseek -R && C:\Users\biocbuild\bbs-3.14-bioc\R\bin\R.exe CMD build --keep-empty-dirs --no-resave-data CRISPRseek
###
##############################################################################
##############################################################################


* checking for file 'CRISPRseek/DESCRIPTION' ... OK
* preparing 'CRISPRseek':
* checking DESCRIPTION meta-information ... OK
* installing the package to build vignettes
* creating vignettes ... OK
* checking for LF line-endings in source and make files and shell scripts
* checking for empty or unneeded directories
* building 'CRISPRseek_1.34.0.tar.gz'