Index of /checkResults/release/bioc-LATEST/CONFESS/raw-results/kjohnson3
Name
Last modified
Size
Description
Parent Directory
-
install-summary.dcf
12-Jun-2024 03:43
270
install-out.txt
12-Jun-2024 03:43
1.3K
buildsrc-summary.dcf
12-Jun-2024 03:43
344
buildsrc-out.txt
12-Jun-2024 03:43
1.6K