Name | Last modified | Size | Description | |
---|---|---|---|---|
Parent Directory | - | |||
buildbin-out.txt | 17-Jul-2024 06:39 | 7.0K | ||
buildbin-summary.dcf | 17-Jul-2024 06:39 | 516 | ||
buildsrc-out.txt | 17-Jul-2024 06:39 | 1.2K | ||
buildsrc-summary.dcf | 17-Jul-2024 06:39 | 453 | ||
checksrc-out.txt | 17-Jul-2024 06:39 | 5.5K | ||
checksrc-summary.dcf | 17-Jul-2024 06:39 | 447 | ||
install-out.txt | 17-Jul-2024 06:39 | 6.9K | ||
install-summary.dcf | 17-Jul-2024 06:39 | 269 | ||