Name | Last modified | Size | Description | |
---|---|---|---|---|
Parent Directory | - | |||
install-out.txt | 17-Jul-2024 06:40 | 7.5K | ||
buildbin-out.txt | 17-Jul-2024 06:40 | 7.3K | ||
checksrc-out.txt | 17-Jul-2024 06:40 | 5.2K | ||
buildsrc-out.txt | 17-Jul-2024 06:40 | 1.1K | ||
buildbin-summary.dcf | 17-Jul-2024 06:40 | 529 | ||
checksrc-summary.dcf | 17-Jul-2024 06:40 | 444 | ||
buildsrc-summary.dcf | 17-Jul-2024 06:40 | 428 | ||
install-summary.dcf | 17-Jul-2024 06:40 | 270 | ||