Name | Last modified | Size | Description | |
---|---|---|---|---|
Parent Directory | - | |||
install-out.txt | 12-Jun-2024 03:42 | 7.5K | ||
buildbin-out.txt | 12-Jun-2024 03:42 | 7.3K | ||
checksrc-out.txt | 12-Jun-2024 03:42 | 4.9K | ||
buildsrc-out.txt | 12-Jun-2024 03:42 | 1.1K | ||
buildbin-summary.dcf | 12-Jun-2024 03:42 | 529 | ||
checksrc-summary.dcf | 12-Jun-2024 03:42 | 444 | ||
buildsrc-summary.dcf | 12-Jun-2024 03:42 | 428 | ||
install-summary.dcf | 12-Jun-2024 03:42 | 269 | ||