Name | Last modified | Size | Description | |
---|---|---|---|---|
Parent Directory | - | |||
buildbin-out.txt | 05-Mar-2024 01:39 | 5.1K | ||
buildbin-summary.dcf | 05-Mar-2024 01:39 | 524 | ||
buildsrc-out.txt | 05-Mar-2024 01:39 | 842 | ||
buildsrc-summary.dcf | 05-Mar-2024 01:39 | 424 | ||
checksrc-out.txt | 05-Mar-2024 01:39 | 4.0K | ||
checksrc-summary.dcf | 05-Mar-2024 01:39 | 439 | ||
install-out.txt | 05-Mar-2024 01:39 | 3.1K | ||
install-summary.dcf | 05-Mar-2024 01:39 | 267 | ||